BEGIN:VCALENDAR
VERSION:2.0
PRODID:-//Springfield Brewing Company - ECPv6.15.20//NONSGML v1.0//EN
CALSCALE:GREGORIAN
METHOD:PUBLISH
X-WR-CALNAME:Springfield Brewing Company
X-ORIGINAL-URL:https://springfieldbrewingco.com
X-WR-CALDESC:Events for Springfield Brewing Company
REFRESH-INTERVAL;VALUE=DURATION:PT1H
X-Robots-Tag:noindex
X-PUBLISHED-TTL:PT1H
BEGIN:VTIMEZONE
TZID:America/Chicago
BEGIN:DAYLIGHT
TZOFFSETFROM:-0600
TZOFFSETTO:-0500
TZNAME:CDT
DTSTART:20220313T080000
END:DAYLIGHT
BEGIN:STANDARD
TZOFFSETFROM:-0500
TZOFFSETTO:-0600
TZNAME:CST
DTSTART:20221106T070000
END:STANDARD
BEGIN:DAYLIGHT
TZOFFSETFROM:-0600
TZOFFSETTO:-0500
TZNAME:CDT
DTSTART:20230312T080000
END:DAYLIGHT
BEGIN:STANDARD
TZOFFSETFROM:-0500
TZOFFSETTO:-0600
TZNAME:CST
DTSTART:20231105T070000
END:STANDARD
BEGIN:DAYLIGHT
TZOFFSETFROM:-0600
TZOFFSETTO:-0500
TZNAME:CDT
DTSTART:20240310T080000
END:DAYLIGHT
BEGIN:STANDARD
TZOFFSETFROM:-0500
TZOFFSETTO:-0600
TZNAME:CST
DTSTART:20241103T070000
END:STANDARD
BEGIN:DAYLIGHT
TZOFFSETFROM:-0600
TZOFFSETTO:-0500
TZNAME:CDT
DTSTART:20250309T080000
END:DAYLIGHT
BEGIN:STANDARD
TZOFFSETFROM:-0500
TZOFFSETTO:-0600
TZNAME:CST
DTSTART:20251102T070000
END:STANDARD
END:VTIMEZONE
BEGIN:VEVENT
DTSTART;VALUE=DATE:20240315
DTEND;VALUE=DATE:20240318
DTSTAMP:20260423T070128
CREATED:20250320T072212Z
LAST-MODIFIED:20250320T073520Z
UID:10000001-1710460800-1710719999@springfieldbrewingco.com
SUMMARY:St Patrick's Day At Brew Co
DESCRIPTION:
URL:https://springfieldbrewingco.com/event/st-patricks-day-at-brew-c0/
LOCATION:Springfield Brewing Company\, 305 S Market\, Springfield\, MO\, 65806\, United States
ATTACH;FMTTYPE=image/jpeg:https://springfieldbrewingco.com/wp-content/uploads/2024/03/stpats2024.jpeg
END:VEVENT
BEGIN:VEVENT
DTSTART;TZID=America/Chicago:20231231T190000
DTEND;TZID=America/Chicago:20231231T233000
DTSTAMP:20260423T070128
CREATED:20250320T075828Z
LAST-MODIFIED:20250320T075850Z
UID:10000010-1704049200-1704065400@springfieldbrewingco.com
SUMMARY:Brew Years Eve at SBC
DESCRIPTION:Ring in the New Year with a great night of music\, food\, craft brews\, and spirits. This is going to be a night to remember!\nWe have a stacked live music line up from: \n\nMAXIMUM WEEKEND\nThe Kursk\nThe Hook Knives\nMolly Healey (special EDM set)\n\nDoors open at 7 PM.\nMusic starts at 8 PM.\nLate night munchies from the Brew Co kitchen\n$20 at the door.
URL:https://springfieldbrewingco.com/event/brew-years-eve-at-sbc/
LOCATION:Springfield Brewing Company\, 305 S Market\, Springfield\, MO\, 65806\, United States
ATTACH;FMTTYPE=image/jpeg:https://springfieldbrewingco.com/wp-content/uploads/2023/12/NYE2024CoverPhoto-scaled-1.jpg
END:VEVENT
BEGIN:VEVENT
DTSTART;TZID=America/Chicago:20231224T110000
DTEND;TZID=America/Chicago:20231224T160000
DTSTAMP:20260423T070128
CREATED:20250320T075630Z
LAST-MODIFIED:20250320T075630Z
UID:10000009-1703415600-1703433600@springfieldbrewingco.com
SUMMARY:Christmas Eve at SBC
DESCRIPTION:Santa is coming\, and we’re so excited!\nSanta will be here on Christmas Eve from 12pm – 2pm passing out candy canes and holiday cheer!\nLunch served from 11am – 4pm. Bring your own camera for FREE Santa pictures.\nKid Friendly Event.
URL:https://springfieldbrewingco.com/event/christmas-eve-at-sbc-2/
LOCATION:Springfield Brewing Company\, 305 S Market\, Springfield\, MO\, 65806\, United States
ATTACH;FMTTYPE=image/png:https://springfieldbrewingco.com/wp-content/uploads/2023/12/santa1.png
END:VEVENT
BEGIN:VEVENT
DTSTART;TZID=America/Chicago:20231222T173000
DTEND;TZID=America/Chicago:20231222T193000
DTSTAMP:20260423T070128
CREATED:20250320T075114Z
LAST-MODIFIED:20250320T075114Z
UID:10000008-1703266200-1703273400@springfieldbrewingco.com
SUMMARY:Beers & Carols!
DESCRIPTION:As a thank you for all of SBC’s support over the years\, Springfield Brewing Company Athletics (SBCA) is hosting a Beers and Carols event at the Mothership on Friday\, December 22\, 2023. Starting at 5:30pm\, through 8:00pm. Come one and come all. Open to everyone. Enjoy some Beers and Carols\, as we all say/sing “Cheers” to the Holidays together. Free to everyone. (There will be a collection plate for our carol singers\, but no cover charge or anything like that .) Just plan to come on out and enjoy some Beers and Carols! (And don’t worry – the SBCA folks are not the ones singing – they are just the ones securing a commitment from a local choir/choral group to provide the festive sounds!!!) So come on out – have a beer (or two) and sing along to your favorite carols. #fortheloveofbeersandcarols \nConfirmed. The amazing folks with the Springfield Chamber Chorus have agreed to provide our festive sounds. (They’re raising money for a trip to Denver so there will be a plate to donate to their cause.) So excited. These folks will sound amazing. . Come on out and get your carols fix just in time for Christmas.
URL:https://springfieldbrewingco.com/event/beers-carols/
LOCATION:Springfield Brewing Company\, 305 S Market\, Springfield\, MO\, 65806\, United States
ATTACH;FMTTYPE=image/jpeg:https://springfieldbrewingco.com/wp-content/uploads/2023/12/407987720_807489201387777_5903501221311915775_n.jpg
END:VEVENT
BEGIN:VEVENT
DTSTART;TZID=America/Chicago:20231217T110000
DTEND;TZID=America/Chicago:20231217T210000
DTSTAMP:20260423T070128
CREATED:20250320T074628Z
LAST-MODIFIED:20250320T074628Z
UID:10000007-1702810800-1702846800@springfieldbrewingco.com
SUMMARY:26th Anniversary Celebration
DESCRIPTION:Cheers to 26 years!\nCome celebrate 26 years of being Springfield’s Cornerstone brewery. \nEnjoy All Day Happy Hour\, $2 Off Appetizers (excluding wings)\, and a FREE Cupcake. \nLive Music from Molly Healey and Annabelle Moore playing live from 5-8PM. \nSee you there!
URL:https://springfieldbrewingco.com/event/26th-anniversary-celebration/
LOCATION:Springfield Brewing Company\, 305 S Market\, Springfield\, MO\, 65806\, United States
ATTACH;FMTTYPE=image/jpeg:https://springfieldbrewingco.com/wp-content/uploads/2023/12/26thAnniversaryCoverPhoto-scaled-1.jpg
END:VEVENT
BEGIN:VEVENT
DTSTART;TZID=America/Chicago:20231202T110000
DTEND;TZID=America/Chicago:20231202T220000
DTSTAMP:20260423T070128
CREATED:20250320T074435Z
LAST-MODIFIED:20250320T074449Z
UID:10000006-1701514800-1701554400@springfieldbrewingco.com
SUMMARY:Mug Club Public Sale
DESCRIPTION:Join the Club! \nWe are Springfield’s Original Mug Club Membership. When you join our club\, you not only become one of our 338 elite beer fans\, you become part of the BrewCo family. You’re given one chance at the end of the year to join\, and that day is coming soon! \nThe Mug Club Public Sale starts at 11am SHARP on Saturday 12/2/23
URL:https://springfieldbrewingco.com/event/mug-club-public-sale-2/
LOCATION:Springfield Brewing Company\, 305 S Market\, Springfield\, MO\, 65806\, United States
ATTACH;FMTTYPE=image/jpeg:https://springfieldbrewingco.com/wp-content/uploads/2023/11/mugrack1.jpg
END:VEVENT
BEGIN:VEVENT
DTSTART;TZID=America/Chicago:20231124T110000
DTEND;TZID=America/Chicago:20231124T220000
DTSTAMP:20260423T070128
CREATED:20250320T074234Z
LAST-MODIFIED:20250320T074234Z
UID:10000005-1700823600-1700863200@springfieldbrewingco.com
SUMMARY:Black Friday Release: Bon Bon Tsarry Night
DESCRIPTION:The wait is finally over! The highly anticipated draft and can release of our Bon Bon Tsarry Night is Black Friday starting at 11am.\nTsarry Night is a Russian Imperial Stout that has been in our winter line up at SBC since 2014. Its black-as-night hue comes from a blend of roasted barley\, chocolate malt\, and dark crystal malt. We patiently aged this Stout in five different bourbon and whiskey barrels for six months to pick up the beautiful complexities of spirit and oak. We then added mounds of cocoa nibs from Askinosie Chocolate (located on C Street) along with Tahitian and Madagascar vanilla beans. Finally\, we added a healthy shot of dark roasted coffee from our downtown friends at Coffee Ethic (Downtown\, Springfield) The result is a rich 9% beer that is decadently drinkable with layered notes of coffee\, dark chocolate\, vanilla\, bourbon and stout.
URL:https://springfieldbrewingco.com/event/black-friday-release-bon-bon-tsarry-night/
LOCATION:Springfield Brewing Company\, 305 S Market\, Springfield\, MO\, 65806\, United States
ATTACH;FMTTYPE=image/jpeg:https://springfieldbrewingco.com/wp-content/uploads/2023/11/BonBonTsarry_1-scaled-1.jpg
END:VEVENT
BEGIN:VEVENT
DTSTART;TZID=America/Chicago:20231122T210000
DTEND;TZID=America/Chicago:20231122T230000
DTSTAMP:20260423T070128
CREATED:20250320T074039Z
LAST-MODIFIED:20250320T074051Z
UID:10000004-1700686800-1700694000@springfieldbrewingco.com
SUMMARY:Wild Whiskey Wednesday
DESCRIPTION:Wednesday is going to be WILD! \nWe’re staying open late so you can rock out before Thanksgiving with the Hook Knives & Nicolas Cagematch on Wednesday\, 11/22.\nDoor cover charge starts at 8pm. $10 Cover\nMusic starts at 9pm! \nTy Iechyd Da Distillery House Whiskey shots\, Hinterland Old Fashioneds\, plus late night munchies (BrewCo pretzels\, dips\, & pizzas).
URL:https://springfieldbrewingco.com/event/wild-whiskey-wednesday/
LOCATION:Springfield Brewing Company\, 305 S Market\, Springfield\, MO\, 65806\, United States
ATTACH;FMTTYPE=image/jpeg:https://springfieldbrewingco.com/wp-content/uploads/2023/11/DSC0011.jpg
END:VEVENT
END:VCALENDAR