BEGIN:VCALENDAR
VERSION:2.0
PRODID:-//Springfield Brewing Company - ECPv6.15.20//NONSGML v1.0//EN
CALSCALE:GREGORIAN
METHOD:PUBLISH
X-WR-CALNAME:Springfield Brewing Company
X-ORIGINAL-URL:https://springfieldbrewingco.com
X-WR-CALDESC:Events for Springfield Brewing Company
REFRESH-INTERVAL;VALUE=DURATION:PT1H
X-Robots-Tag:noindex
X-PUBLISHED-TTL:PT1H
BEGIN:VTIMEZONE
TZID:America/Chicago
BEGIN:DAYLIGHT
TZOFFSETFROM:-0600
TZOFFSETTO:-0500
TZNAME:CDT
DTSTART:20220313T080000
END:DAYLIGHT
BEGIN:STANDARD
TZOFFSETFROM:-0500
TZOFFSETTO:-0600
TZNAME:CST
DTSTART:20221106T070000
END:STANDARD
BEGIN:DAYLIGHT
TZOFFSETFROM:-0600
TZOFFSETTO:-0500
TZNAME:CDT
DTSTART:20230312T080000
END:DAYLIGHT
BEGIN:STANDARD
TZOFFSETFROM:-0500
TZOFFSETTO:-0600
TZNAME:CST
DTSTART:20231105T070000
END:STANDARD
BEGIN:DAYLIGHT
TZOFFSETFROM:-0600
TZOFFSETTO:-0500
TZNAME:CDT
DTSTART:20240310T080000
END:DAYLIGHT
BEGIN:STANDARD
TZOFFSETFROM:-0500
TZOFFSETTO:-0600
TZNAME:CST
DTSTART:20241103T070000
END:STANDARD
END:VTIMEZONE
BEGIN:VEVENT
DTSTART;TZID=America/Chicago:20231122T210000
DTEND;TZID=America/Chicago:20231122T230000
DTSTAMP:20260423T034933
CREATED:20250320T074039Z
LAST-MODIFIED:20250320T074051Z
UID:8909-1700686800-1700694000@springfieldbrewingco.com
SUMMARY:Wild Whiskey Wednesday
DESCRIPTION:Wednesday is going to be WILD! \nWe’re staying open late so you can rock out before Thanksgiving with the Hook Knives & Nicolas Cagematch on Wednesday\, 11/22.\nDoor cover charge starts at 8pm. $10 Cover\nMusic starts at 9pm! \nTy Iechyd Da Distillery House Whiskey shots\, Hinterland Old Fashioneds\, plus late night munchies (BrewCo pretzels\, dips\, & pizzas).
URL:https://springfieldbrewingco.com/event/wild-whiskey-wednesday/
LOCATION:Springfield Brewing Company\, 305 S Market\, Springfield\, MO\, 65806\, United States
ATTACH;FMTTYPE=image/jpeg:https://springfieldbrewingco.com/wp-content/uploads/2023/11/DSC0011.jpg
END:VEVENT
END:VCALENDAR