BEGIN:VCALENDAR
VERSION:2.0
PRODID:-//Springfield Brewing Company - ECPv6.15.20//NONSGML v1.0//EN
CALSCALE:GREGORIAN
METHOD:PUBLISH
X-WR-CALNAME:Springfield Brewing Company
X-ORIGINAL-URL:https://springfieldbrewingco.com
X-WR-CALDESC:Events for Springfield Brewing Company
REFRESH-INTERVAL;VALUE=DURATION:PT1H
X-Robots-Tag:noindex
X-PUBLISHED-TTL:PT1H
BEGIN:VTIMEZONE
TZID:America/Chicago
BEGIN:DAYLIGHT
TZOFFSETFROM:-0600
TZOFFSETTO:-0500
TZNAME:CDT
DTSTART:20240310T080000
END:DAYLIGHT
BEGIN:STANDARD
TZOFFSETFROM:-0500
TZOFFSETTO:-0600
TZNAME:CST
DTSTART:20241103T070000
END:STANDARD
BEGIN:DAYLIGHT
TZOFFSETFROM:-0600
TZOFFSETTO:-0500
TZNAME:CDT
DTSTART:20250309T080000
END:DAYLIGHT
BEGIN:STANDARD
TZOFFSETFROM:-0500
TZOFFSETTO:-0600
TZNAME:CST
DTSTART:20251102T070000
END:STANDARD
BEGIN:DAYLIGHT
TZOFFSETFROM:-0600
TZOFFSETTO:-0500
TZNAME:CDT
DTSTART:20260308T080000
END:DAYLIGHT
BEGIN:STANDARD
TZOFFSETFROM:-0500
TZOFFSETTO:-0600
TZNAME:CST
DTSTART:20261101T070000
END:STANDARD
END:VTIMEZONE
BEGIN:VEVENT
DTSTART;TZID=America/Chicago:20250314T190000
DTEND;TZID=America/Chicago:20250314T230000
DTSTAMP:20260423T082857
CREATED:20250325T235928Z
LAST-MODIFIED:20250326T000052Z
UID:10114-1741978800-1741993200@springfieldbrewingco.com
SUMMARY:Example March Event 2025
DESCRIPTION:
URL:https://springfieldbrewingco.com/event/example-march-event-2025-2/
CATEGORIES:Entertainment
ATTACH;FMTTYPE=image/jpeg:https://springfieldbrewingco.com/wp-content/uploads/2025/03/mt-sample-background.jpg
END:VEVENT
END:VCALENDAR