BEGIN:VCALENDAR
VERSION:2.0
PRODID:-//Springfield Brewing Company - ECPv6.15.20//NONSGML v1.0//EN
CALSCALE:GREGORIAN
METHOD:PUBLISH
X-WR-CALNAME:Springfield Brewing Company
X-ORIGINAL-URL:https://springfieldbrewingco.com
X-WR-CALDESC:Events for Springfield Brewing Company
REFRESH-INTERVAL;VALUE=DURATION:PT1H
X-Robots-Tag:noindex
X-PUBLISHED-TTL:PT1H
BEGIN:VTIMEZONE
TZID:America/Chicago
BEGIN:DAYLIGHT
TZOFFSETFROM:-0600
TZOFFSETTO:-0500
TZNAME:CDT
DTSTART:20220313T080000
END:DAYLIGHT
BEGIN:STANDARD
TZOFFSETFROM:-0500
TZOFFSETTO:-0600
TZNAME:CST
DTSTART:20221106T070000
END:STANDARD
BEGIN:DAYLIGHT
TZOFFSETFROM:-0600
TZOFFSETTO:-0500
TZNAME:CDT
DTSTART:20230312T080000
END:DAYLIGHT
BEGIN:STANDARD
TZOFFSETFROM:-0500
TZOFFSETTO:-0600
TZNAME:CST
DTSTART:20231105T070000
END:STANDARD
BEGIN:DAYLIGHT
TZOFFSETFROM:-0600
TZOFFSETTO:-0500
TZNAME:CDT
DTSTART:20240310T080000
END:DAYLIGHT
BEGIN:STANDARD
TZOFFSETFROM:-0500
TZOFFSETTO:-0600
TZNAME:CST
DTSTART:20241103T070000
END:STANDARD
END:VTIMEZONE
BEGIN:VEVENT
DTSTART;TZID=America/Chicago:20231231T190000
DTEND;TZID=America/Chicago:20231231T233000
DTSTAMP:20260423T082939
CREATED:20250320T075828Z
LAST-MODIFIED:20250320T075850Z
UID:8921-1704049200-1704065400@springfieldbrewingco.com
SUMMARY:Brew Years Eve at SBC
DESCRIPTION:Ring in the New Year with a great night of music\, food\, craft brews\, and spirits. This is going to be a night to remember!\nWe have a stacked live music line up from: \n\nMAXIMUM WEEKEND\nThe Kursk\nThe Hook Knives\nMolly Healey (special EDM set)\n\nDoors open at 7 PM.\nMusic starts at 8 PM.\nLate night munchies from the Brew Co kitchen\n$20 at the door.
URL:https://springfieldbrewingco.com/event/brew-years-eve-at-sbc/
LOCATION:Springfield Brewing Company\, 305 S Market\, Springfield\, MO\, 65806\, United States
ATTACH;FMTTYPE=image/jpeg:https://springfieldbrewingco.com/wp-content/uploads/2023/12/NYE2024CoverPhoto-scaled-1.jpg
END:VEVENT
END:VCALENDAR