BEGIN:VCALENDAR
VERSION:2.0
PRODID:-//Springfield Brewing Company - ECPv6.15.20//NONSGML v1.0//EN
CALSCALE:GREGORIAN
METHOD:PUBLISH
X-WR-CALNAME:Springfield Brewing Company
X-ORIGINAL-URL:https://springfieldbrewingco.com
X-WR-CALDESC:Events for Springfield Brewing Company
REFRESH-INTERVAL;VALUE=DURATION:PT1H
X-Robots-Tag:noindex
X-PUBLISHED-TTL:PT1H
BEGIN:VTIMEZONE
TZID:America/Chicago
BEGIN:DAYLIGHT
TZOFFSETFROM:-0600
TZOFFSETTO:-0500
TZNAME:CDT
DTSTART:20220313T080000
END:DAYLIGHT
BEGIN:STANDARD
TZOFFSETFROM:-0500
TZOFFSETTO:-0600
TZNAME:CST
DTSTART:20221106T070000
END:STANDARD
BEGIN:DAYLIGHT
TZOFFSETFROM:-0600
TZOFFSETTO:-0500
TZNAME:CDT
DTSTART:20230312T080000
END:DAYLIGHT
BEGIN:STANDARD
TZOFFSETFROM:-0500
TZOFFSETTO:-0600
TZNAME:CST
DTSTART:20231105T070000
END:STANDARD
BEGIN:DAYLIGHT
TZOFFSETFROM:-0600
TZOFFSETTO:-0500
TZNAME:CDT
DTSTART:20240310T080000
END:DAYLIGHT
BEGIN:STANDARD
TZOFFSETFROM:-0500
TZOFFSETTO:-0600
TZNAME:CST
DTSTART:20241103T070000
END:STANDARD
END:VTIMEZONE
BEGIN:VEVENT
DTSTART;TZID=America/Chicago:20230417T110000
DTEND;TZID=America/Chicago:20230417T210000
DTSTAMP:20260423T051730
CREATED:20250320T073742Z
LAST-MODIFIED:20250320T073742Z
UID:8907-1681729200-1681765200@springfieldbrewingco.com
SUMMARY:417 Day 2023
DESCRIPTION:417 Day\, aka 4/17\, is a day to celebrate our city and our favorite area code!\n \nJoin us on Monday\, 4/17/23\, at Springfield Brewing Company for our 417 Day Keep the Pint special! Order a draft beer of our 417 Lager and you get the keep the glass! \n  \nOffer valid at Springfield Brewing Company while supplies last\nMust be 21+ to drink \n  \n 
URL:https://springfieldbrewingco.com/event/417-day-2023/
LOCATION:Springfield Brewing Company\, 305 S Market\, Springfield\, MO\, 65806\, United States
ATTACH;FMTTYPE=image/jpeg:https://springfieldbrewingco.com/wp-content/uploads/2023/04/417DayGraphic-1.jpg
END:VEVENT
END:VCALENDAR